BEGIN:VCALENDAR
VERSION:2.0
CALSCALE:GREGORIAN
BEGIN:VEVENT
DTSTAMP:20260424T043928
DTSTART:20260404T110000
DTEND:20260404T130000
SUMMARY:Winemaker\'s Pour: Adam Lee, Status Quo
DESCRIPTION:Event Info: https://www.localwineevents.com/view/event/winemakers-pour-adam-lee-status-quo/987904
LOCATION:The Yount Room -- 6505 Washington St Yountville, CA 94599
STATUS:CONFIRMED
SEQUENCE:0
TRANSP:OPAQUE
END:VEVENT
END:VCALENDAR
