BEGIN:VCALENDAR
VERSION:2.0
CALSCALE:GREGORIAN
BEGIN:VEVENT
DTSTAMP:20260424T062101
DTSTART:20260523T100000
DTEND:20260523T140000
SUMMARY:BottleRock Brunch Experience
DESCRIPTION:Event Info: https://www.localwineevents.com/view/event/bottlerock-brunch-experience/987899
LOCATION:Odette Estate Winery -- 5998 Silverado Trail Napa, CA 94558
STATUS:CONFIRMED
SEQUENCE:0
TRANSP:OPAQUE
END:VEVENT
END:VCALENDAR
