BEGIN:VCALENDAR
VERSION:2.0
CALSCALE:GREGORIAN
BEGIN:VEVENT
DTSTAMP:20260421T064340
DTSTART:20260611T180000
DTEND:20260611T193000
SUMMARY:Under The Tuscan Sun
DESCRIPTION:Event Info: https://www.localwineevents.com/view/event/under-the-tuscan-sun/987596
LOCATION:Total Wine  More | 2325 S. Stemmons Fwy, Suite 504 nul -- 2325 S. Stemmons Fwy, Suite 504 null Lewisville, Texas 75067
STATUS:CONFIRMED
SEQUENCE:0
TRANSP:OPAQUE
END:VEVENT
END:VCALENDAR
