BEGIN:VCALENDAR
VERSION:2.0
CALSCALE:GREGORIAN
BEGIN:VEVENT
DTSTAMP:20260422T161929
DTSTART:20260611T183000
DTEND:20260611T200000
SUMMARY:Under The Tuscan Sun
DESCRIPTION:Event Info: https://www.localwineevents.com/view/event/under-the-tuscan-sun/987531
LOCATION:Total Wine  More | 24267 Magic Mountain Pkwy nul -- 24267 Magic Mountain Pkwy null Valencia, California 91355
STATUS:CONFIRMED
SEQUENCE:0
TRANSP:OPAQUE
END:VEVENT
END:VCALENDAR
