BEGIN:VCALENDAR
VERSION:2.0
CALSCALE:GREGORIAN
BEGIN:VEVENT
DTSTAMP:20260421T184307
DTSTART:20260606T170000
DTEND:20260606T183000
SUMMARY:The Secret To Tequila  Cocktail Making With Cdigo 1530
DESCRIPTION:Event Info: https://www.localwineevents.com/view/event/the-secret-to-tequila-cocktail-making-with-cdigo-1530/987449
LOCATION:Total Wine  More | 721 N Central EXPY Ste200 nul -- 721 N Central EXPY Ste200 null Plano, Texas 75075
STATUS:CONFIRMED
SEQUENCE:0
TRANSP:OPAQUE
END:VEVENT
END:VCALENDAR
