BEGIN:VCALENDAR
VERSION:2.0
CALSCALE:GREGORIAN
BEGIN:VEVENT
DTSTAMP:20260422T164627
DTSTART:20260502T110000
DTEND:20260502T160000
SUMMARY:Amador Four Fires Food  Wine Festival
DESCRIPTION:Event Info: https://www.localwineevents.com/view/event/amador-four-fires-food-wine-festival/987233
LOCATION:Amador Wine Country -- 9313 Pacific Street Plymouth, CA 95669
STATUS:CONFIRMED
SEQUENCE:0
TRANSP:OPAQUE
END:VEVENT
END:VCALENDAR
