BEGIN:VCALENDAR
VERSION:2.0
CALSCALE:GREGORIAN
BEGIN:VEVENT
DTSTAMP:20260421T050838
DTSTART:20260301T120000
DTEND:20260301T170000
SUMMARY:Downtown Naperville SPRING (almost) Wine Walk
DESCRIPTION:Event Info: https://www.localwineevents.com/view/event/downtown-naperville-spring-almost-wine-walk/987126
LOCATION:Downtown Naperville -- 244 S. Main Street Naperville, IL 60540
STATUS:CONFIRMED
SEQUENCE:0
TRANSP:OPAQUE
END:VEVENT
END:VCALENDAR
