BEGIN:VCALENDAR
VERSION:2.0
CALSCALE:GREGORIAN
BEGIN:VEVENT
DTSTAMP:20260420T045302
DTSTART:20260321T160000
DTEND:20260321T180000
SUMMARY:Boston Wine  Food Festival: Springtime Ros Master Class
DESCRIPTION:Event Info: https://www.localwineevents.com/view/event/boston-wine-food-festival-springtime-ros-master-class/987101
LOCATION:Boston Harbor Hotel -- 70 Rowes Wharf Boston, MA 02110
STATUS:CONFIRMED
SEQUENCE:0
TRANSP:OPAQUE
END:VEVENT
END:VCALENDAR
