BEGIN:VCALENDAR
VERSION:2.0
CALSCALE:GREGORIAN
BEGIN:VEVENT
DTSTAMP:20260420T043628
DTSTART:20260319T180000
DTEND:20260319T200000
SUMMARY:Boston Wine  Food Festival: Wines Of Loire With Couly-Dutheil Of Chinon
DESCRIPTION:Event Info: https://www.localwineevents.com/view/event/boston-wine-food-festival-wines-of-loire-with-couly-dutheil-of-chinon/987098
LOCATION:Boston Harbor Hotel -- 70 Rowes Wharf Boston, MA 02110
STATUS:CONFIRMED
SEQUENCE:0
TRANSP:OPAQUE
END:VEVENT
END:VCALENDAR
