BEGIN:VCALENDAR
VERSION:2.0
CALSCALE:GREGORIAN
BEGIN:VEVENT
DTSTAMP:20260420T180155
DTSTART:20260503T110000
DTEND:20260503T140000
SUMMARY:Pinot Noir Barrel Tasting Workshop
DESCRIPTION:Event Info: https://www.localwineevents.com/view/event/pinot-noir-barrel-tasting-workshop/987093
LOCATION:Center of Effort -- 2195 Corbett Canyon Road Arroyo Grande, CA 93420
STATUS:CONFIRMED
SEQUENCE:0
TRANSP:OPAQUE
END:VEVENT
END:VCALENDAR
