BEGIN:VCALENDAR
VERSION:2.0
CALSCALE:GREGORIAN
BEGIN:VEVENT
DTSTAMP:20260420T180956
DTSTART:20260424T163000
DTEND:20260424T193000
SUMMARY:Sunset Hours
DESCRIPTION:Event Info: https://www.localwineevents.com/view/event/sunset-hours/987092
LOCATION:Center of Effort -- 2195 Corbett Canyon Road Arroyo Grande, CA 93420
STATUS:CONFIRMED
SEQUENCE:0
TRANSP:OPAQUE
END:VEVENT
END:VCALENDAR
