BEGIN:VCALENDAR
VERSION:2.0
CALSCALE:GREGORIAN
BEGIN:VEVENT
DTSTAMP:20260422T224423
DTSTART:20260306T191500
DTEND:20260306T210000
SUMMARY:March 6 -- EAT. DRINK. LAUGH.
DESCRIPTION:Event Info: https://www.localwineevents.com/view/event/march-6----eat-drink-laugh/986694
LOCATION:Upstairs at The Reading Room -- 19 Edgemont Road Katonah, NY 10536
STATUS:CONFIRMED
SEQUENCE:0
TRANSP:OPAQUE
END:VEVENT
END:VCALENDAR
