BEGIN:VCALENDAR
VERSION:2.0
CALSCALE:GREGORIAN
BEGIN:VEVENT
DTSTAMP:20260420T045341
DTSTART:20260228T150000
DTEND:20260228T170000
SUMMARY:Pizza  Wine Class
DESCRIPTION:Event Info: https://www.localwineevents.com/view/event/pizza-wine-class/986648
LOCATION:506 S Central Ave -- 506 South Central Avenue Baltimore, MD 21202
STATUS:CONFIRMED
SEQUENCE:0
TRANSP:OPAQUE
END:VEVENT
END:VCALENDAR
