BEGIN:VCALENDAR
VERSION:2.0
CALSCALE:GREGORIAN
BEGIN:VEVENT
DTSTAMP:20260420T233247
DTSTART:20260509T113000
DTEND:20260509T160000
SUMMARY:Celebrating Mom Day @ Wine Shine \'n Taco Palooza
DESCRIPTION:Event Info: https://www.localwineevents.com/view/event/celebrating-mom-day-wine-shine-n-taco-palooza/986189
LOCATION:Bloomsburg Fairgrounds -- 620 West 3rd Street (Inside the Industrial Building) Bloomsburg, PA 17815
STATUS:CONFIRMED
SEQUENCE:0
TRANSP:OPAQUE
END:VEVENT
END:VCALENDAR
