BEGIN:VCALENDAR
VERSION:2.0
CALSCALE:GREGORIAN
BEGIN:VEVENT
DTSTAMP:20260420T045340
DTSTART:20260307T160000
DTEND:20260307T170000
SUMMARY:Boston Wine  Food Festival: Mezcal Master Class
DESCRIPTION:Event Info: https://www.localwineevents.com/view/event/boston-wine-food-festival-mezcal-master-class/986185
LOCATION:Boston Harbor Hotel -- 70 Rowes Wharf Boston, MA 02110
STATUS:CONFIRMED
SEQUENCE:0
TRANSP:OPAQUE
END:VEVENT
END:VCALENDAR
