BEGIN:VCALENDAR
VERSION:2.0
CALSCALE:GREGORIAN
BEGIN:VEVENT
DTSTAMP:20260420T044259
DTSTART:20260225T180000
DTEND:20260225T210000
SUMMARY:South Side + Friends Chef Series: Justice Of The Pies (2/25)
DESCRIPTION:Event Info: https://www.localwineevents.com/view/event/south-side-friends-chef-series-justice-of-the-pies-225/986004
LOCATION:3265 S Archer Ave -- 3265 South Archer Avenue Chicago, IL 60608
STATUS:CONFIRMED
SEQUENCE:0
TRANSP:OPAQUE
END:VEVENT
END:VCALENDAR
