BEGIN:VCALENDAR
VERSION:2.0
CALSCALE:GREGORIAN
BEGIN:VEVENT
DTSTAMP:20260421T184328
DTSTART:20260507T183000
DTEND:20260507T200000
SUMMARY:Dipping Into The Wines Of 5th Generation Winemaker Joe Wagner
DESCRIPTION:Event Info: https://www.localwineevents.com/view/event/dipping-into-the-wines-of-5th-generation-winemaker-joe-wagner/985844
LOCATION:Total Wine  More | 8700 Preston Rd Ste113 nul -- 8700 Preston Rd Ste113 null Plano, Texas 75024
STATUS:CONFIRMED
SEQUENCE:0
TRANSP:OPAQUE
END:VEVENT
END:VCALENDAR
