BEGIN:VCALENDAR
VERSION:2.0
CALSCALE:GREGORIAN
BEGIN:VEVENT
DTSTAMP:20260420T121743
DTSTART:20260530T170000
DTEND:20260530T183000
SUMMARY:Summertime Sips
DESCRIPTION:Event Info: https://www.localwineevents.com/view/event/summertime-sips/985252
LOCATION:Total Wine  More | 4923 28th Street SE nul -- 4923 28th Street SE null Grand Rapids, Michigan 49512
STATUS:CONFIRMED
SEQUENCE:0
TRANSP:OPAQUE
END:VEVENT
END:VCALENDAR
