BEGIN:VCALENDAR
VERSION:2.0
CALSCALE:GREGORIAN
BEGIN:VEVENT
DTSTAMP:20260420T152411
DTSTART:20260529T183000
DTEND:20260529T200000
SUMMARY:Gin, Vodka  Tequila A Battle Of The Clear Spirits
DESCRIPTION:Event Info: https://www.localwineevents.com/view/event/gin-vodka-tequila-a-battle-of-the-clear-spirits/985134
LOCATION:Total Wine  More | 465 US HWY 46 nul -- 465 US HWY 46 null Totowa, New Jersey 07512
STATUS:CONFIRMED
SEQUENCE:0
TRANSP:OPAQUE
END:VEVENT
END:VCALENDAR
