BEGIN:VCALENDAR
VERSION:2.0
CALSCALE:GREGORIAN
BEGIN:VEVENT
DTSTAMP:20260421T223442
DTSTART:20260530T170000
DTEND:20260530T183000
SUMMARY:Gin, Vodka  Tequila A Battle Of The Clear Spirits
DESCRIPTION:Event Info: https://www.localwineevents.com/view/event/gin-vodka-tequila-a-battle-of-the-clear-spirits/985070
LOCATION:Total Wine  More | 7730 N. MacArthur Blvd. SuiteA nul -- 7730 N. MacArthur Blvd. SuiteA null Irving, Texas 75063
STATUS:CONFIRMED
SEQUENCE:0
TRANSP:OPAQUE
END:VEVENT
END:VCALENDAR
