BEGIN:VCALENDAR
VERSION:2.0
CALSCALE:GREGORIAN
BEGIN:VEVENT
DTSTAMP:20260421T184328
DTSTART:20260604T183000
DTEND:20260604T200000
SUMMARY:The Secret To Tequila  Cocktail Making With Cdigo 1530
DESCRIPTION:Event Info: https://www.localwineevents.com/view/event/the-secret-to-tequila-cocktail-making-with-cdigo-1530/984986
LOCATION:Total Wine  More | 8700 Preston Rd Ste113 nul -- 8700 Preston Rd Ste113 null Plano, Texas 75024
STATUS:CONFIRMED
SEQUENCE:0
TRANSP:OPAQUE
END:VEVENT
END:VCALENDAR
