BEGIN:VCALENDAR
VERSION:2.0
CALSCALE:GREGORIAN
BEGIN:VEVENT
DTSTAMP:20260420T043628
DTSTART:20260425T190000
DTEND:20260425T213000
SUMMARY:Wine Spectator\'s Grand Tour: San Diego
DESCRIPTION:Event Info: https://www.localwineevents.com/view/event/wine-spectators-grand-tour-san-diego/984960
LOCATION:Gaylord Convention Center -- 1000 H St Chula Vista, CA 91910
STATUS:CONFIRMED
SEQUENCE:0
TRANSP:OPAQUE
END:VEVENT
END:VCALENDAR
