BEGIN:VCALENDAR
VERSION:2.0
CALSCALE:GREGORIAN
BEGIN:VEVENT
DTSTAMP:20260421T165248
DTSTART:20260426T110000
DTEND:20260426T130000
SUMMARY:Sips And Sprinkles: A Donut And Wine Pairing Experience
DESCRIPTION:Event Info: https://www.localwineevents.com/view/event/sips-and-sprinkles-a-donut-and-wine-pairing-experience/984757
LOCATION:Messina Hof Grapevine Winery -- 201 South Main Street Grapevine, TX 76051
STATUS:CONFIRMED
SEQUENCE:0
TRANSP:OPAQUE
END:VEVENT
END:VCALENDAR
