BEGIN:VCALENDAR
VERSION:2.0
CALSCALE:GREGORIAN
BEGIN:VEVENT
DTSTAMP:20260420T043518
DTSTART:20260222T163000
DTEND:20260222T180000
SUMMARY:A Thirty Twenty Tasting: Bubbly
DESCRIPTION:Event Info: https://www.localwineevents.com/view/event/a-thirty-twenty-tasting-bubbly/984476
LOCATION:Bedarra Bar -- 419 N Grant Street Crown Point, IN 46307
STATUS:CONFIRMED
SEQUENCE:0
TRANSP:OPAQUE
END:VEVENT
END:VCALENDAR
