BEGIN:VCALENDAR
VERSION:2.0
CALSCALE:GREGORIAN
BEGIN:VEVENT
DTSTAMP:20260420T045301
DTSTART:20260219T190000
DTEND:20260219T201500
SUMMARY:Our Favorite Producers: International Cheeses
DESCRIPTION:Event Info: https://www.localwineevents.com/view/event/our-favorite-producers-international-cheeses/984465
LOCATION:Beautiful Rind -- 2211 North Milwaukee Avenue Chicago, IL 60647
STATUS:CONFIRMED
SEQUENCE:0
TRANSP:OPAQUE
END:VEVENT
END:VCALENDAR
