BEGIN:VCALENDAR
VERSION:2.0
CALSCALE:GREGORIAN
BEGIN:VEVENT
DTSTAMP:20260420T045207
DTSTART:20260221T120000
DTEND:20260221T133000
SUMMARY:Store Tour: Eat, Shop, Learn
DESCRIPTION:Event Info: https://www.localwineevents.com/view/event/store-tour-eat-shop-learn/984407
LOCATION:Eataly Chicago -- 43 East Ohio Street Chicago, IL 60611
STATUS:CONFIRMED
SEQUENCE:0
TRANSP:OPAQUE
END:VEVENT
END:VCALENDAR
