BEGIN:VCALENDAR
VERSION:2.0
CALSCALE:GREGORIAN
BEGIN:VEVENT
DTSTAMP:20260421T184307
DTSTART:20260528T180000
DTEND:20260528T193000
SUMMARY:Gin, Vodka  Tequila A Battle Of The Clear Spirits
DESCRIPTION:Event Info: https://www.localwineevents.com/view/event/gin-vodka-tequila-a-battle-of-the-clear-spirits/983733
LOCATION:Total Wine  More | 8700 Preston Rd Ste113 nul -- 8700 Preston Rd Ste113 null Plano, Texas 75024
STATUS:CONFIRMED
SEQUENCE:0
TRANSP:OPAQUE
END:VEVENT
END:VCALENDAR
