BEGIN:VCALENDAR
VERSION:2.0
CALSCALE:GREGORIAN
BEGIN:VEVENT
DTSTAMP:20260421T165248
DTSTART:20260516T170000
DTEND:20260516T183000
SUMMARY:Vive La France
DESCRIPTION:Event Info: https://www.localwineevents.com/view/event/vive-la-france/983570
LOCATION:Total Wine  More | 625 Black Lake Blvd SW STE 405 nul -- 625 Black Lake Blvd SW STE 405 null Olympia, Washington 98502
STATUS:CONFIRMED
SEQUENCE:0
TRANSP:OPAQUE
END:VEVENT
END:VCALENDAR
