BEGIN:VCALENDAR
VERSION:2.0
CALSCALE:GREGORIAN
BEGIN:VEVENT
DTSTAMP:20260422T161934
DTSTART:20260514T183000
DTEND:20260514T200000
SUMMARY:Vive La France
DESCRIPTION:Event Info: https://www.localwineevents.com/view/event/vive-la-france/983407
LOCATION:Total Wine  More | 24267 Magic Mountain Pkwy nul -- 24267 Magic Mountain Pkwy null Valencia, California 91355
STATUS:CONFIRMED
SEQUENCE:0
TRANSP:OPAQUE
END:VEVENT
END:VCALENDAR
