BEGIN:VCALENDAR
VERSION:2.0
CALSCALE:GREGORIAN
BEGIN:VEVENT
DTSTAMP:20260422T220807
DTSTART:20260514T180000
DTEND:20260514T193000
SUMMARY:Vive La France
DESCRIPTION:Event Info: https://www.localwineevents.com/view/event/vive-la-france/983193
LOCATION:Total Wine  More | 6105 Capital Blvd nul -- 6105 Capital Blvd null Raleigh, North Carolina 27616
STATUS:CONFIRMED
SEQUENCE:0
TRANSP:OPAQUE
END:VEVENT
END:VCALENDAR
