BEGIN:VCALENDAR
VERSION:2.0
CALSCALE:GREGORIAN
BEGIN:VEVENT
DTSTAMP:20260420T045312
DTSTART:20260217T183000
DTEND:20260217T200000
SUMMARY:Brewery Breadmaking Class
DESCRIPTION:Event Info: https://www.localwineevents.com/view/event/brewery-breadmaking-class/983078
LOCATION:AleSmith Brewing Company -- 9990 AleSmith Court San Diego, CA 92126
STATUS:CONFIRMED
SEQUENCE:0
TRANSP:OPAQUE
END:VEVENT
END:VCALENDAR
