BEGIN:VCALENDAR
VERSION:2.0
CALSCALE:GREGORIAN
BEGIN:VEVENT
DTSTAMP:20260420T045310
DTSTART:20260325T183000
DTEND:20260325T204500
SUMMARY:Grandes Pagos Of Green Spain  The Ebro River Valley
DESCRIPTION:Event Info: https://www.localwineevents.com/view/event/grandes-pagos-of-green-spain-the-ebro-river-valley/982979
LOCATION:Blind Bishop -- 310 Sunset Ave Dallas, Texas 75208
STATUS:CONFIRMED
SEQUENCE:0
TRANSP:OPAQUE
END:VEVENT
END:VCALENDAR
