BEGIN:VCALENDAR
VERSION:2.0
CALSCALE:GREGORIAN
BEGIN:VEVENT
DTSTAMP:20260421T051119
DTSTART:20260501T170000
DTEND:20260501T200000
SUMMARY:Music With Mirabelle  Matty  1/2 Price  Wine Flights At DuCard Vineyards
DESCRIPTION:Event Info: https://www.localwineevents.com/view/event/music-with-mirabelle-matty-12-price-wine-flights-at-ducard-vineyards/982911
LOCATION:DuCard Vineyards -- 40 Gibson Hollow Lane Etlan (Madison County), VA 22719
STATUS:CONFIRMED
SEQUENCE:0
TRANSP:OPAQUE
END:VEVENT
END:VCALENDAR
