BEGIN:VCALENDAR
VERSION:2.0
CALSCALE:GREGORIAN
BEGIN:VEVENT
DTSTAMP:20260420T175544
DTSTART:20260425T100000
DTEND:20260426T200000
SUMMARY:Wine 4 Paws Weekend To Benefit Woods Humane Society
DESCRIPTION:Event Info: https://www.localwineevents.com/view/event/wine-4-paws-weekend-to-benefit-woods-humane-society/982853
LOCATION:Participating Wineries throughout SLO County -- SLO County Paso Robles, CA 93446
STATUS:CONFIRMED
SEQUENCE:0
TRANSP:OPAQUE
END:VEVENT
END:VCALENDAR
