BEGIN:VCALENDAR
VERSION:2.0
CALSCALE:GREGORIAN
BEGIN:VEVENT
DTSTAMP:20260420T175609
DTSTART:20260711T150000
DTEND:20260718T180000
SUMMARY:Blending Parties In The Barrel Room
DESCRIPTION:Event Info: https://www.localwineevents.com/view/event/blending-parties-in-the-barrel-room/982776
LOCATION:Opolo Vineyard -- 7110 Vineyard Drive, Paso Robles, CA, USA Paso Robles, CA 93446
STATUS:CONFIRMED
SEQUENCE:0
TRANSP:OPAQUE
END:VEVENT
END:VCALENDAR
