BEGIN:VCALENDAR
VERSION:2.0
CALSCALE:GREGORIAN
BEGIN:VEVENT
DTSTAMP:20260420T180155
DTSTART:20260516T170000
DTEND:20260516T220000
SUMMARY:Sunset Crab Feed On The Hilltop
DESCRIPTION:Event Info: https://www.localwineevents.com/view/event/sunset-crab-feed-on-the-hilltop/982770
LOCATION:Opolo Vineyard -- 7110 Vineyard Drive, Paso Robles, CA, USA Paso Robles, CA 93446
STATUS:CONFIRMED
SEQUENCE:0
TRANSP:OPAQUE
END:VEVENT
END:VCALENDAR
