BEGIN:VCALENDAR
VERSION:2.0
CALSCALE:GREGORIAN
BEGIN:VEVENT
DTSTAMP:20260420T045311
DTSTART:20260215T130000
DTEND:20260215T150000
SUMMARY:February Sip N Paint At On Cloud Wine
DESCRIPTION:Event Info: https://www.localwineevents.com/view/event/february-sip-n-paint-at-on-cloud-wine/982580
LOCATION:On Cloud Wine -- 10064 West Loomis Road Franklin, WI 53132
STATUS:CONFIRMED
SEQUENCE:0
TRANSP:OPAQUE
END:VEVENT
END:VCALENDAR
