BEGIN:VCALENDAR
VERSION:2.0
CALSCALE:GREGORIAN
BEGIN:VEVENT
DTSTAMP:20260420T045342
DTSTART:20260214T190000
DTEND:20260215T213000
SUMMARY:A Taste Of Love: 5 Course Dinner
DESCRIPTION:Event Info: https://www.localwineevents.com/view/event/a-taste-of-love-5-course-dinner/982440
LOCATION:The Plant -- 1400 West 46th Street Chicago, IL 60609
STATUS:CONFIRMED
SEQUENCE:0
TRANSP:OPAQUE
END:VEVENT
END:VCALENDAR
