BEGIN:VCALENDAR
VERSION:2.0
CALSCALE:GREGORIAN
BEGIN:VEVENT
DTSTAMP:20260421T050851
DTSTART:20260214T163000
DTEND:20260214T233000
SUMMARY:TapaVino Valentine\'s Day 6 Course Dinner
DESCRIPTION:Event Info: https://www.localwineevents.com/view/event/tapavino-valentines-day-6-course-dinner/982359
LOCATION:TapaVino -- 160 Green Street Worcester, MA 01604
STATUS:CONFIRMED
SEQUENCE:0
TRANSP:OPAQUE
END:VEVENT
END:VCALENDAR
