BEGIN:VCALENDAR
VERSION:2.0
CALSCALE:GREGORIAN
BEGIN:VEVENT
DTSTAMP:20260420T045151
DTSTART:20260214T190000
DTEND:20260214T210000
SUMMARY:Valentine\'s Day Supper Club
DESCRIPTION:Event Info: https://www.localwineevents.com/view/event/valentines-day-supper-club/982001
LOCATION:Magdalenas -- 502 Grand Avenue Fort Worth, TX 76164
STATUS:CONFIRMED
SEQUENCE:0
TRANSP:OPAQUE
END:VEVENT
END:VCALENDAR
