BEGIN:VCALENDAR
VERSION:2.0
CALSCALE:GREGORIAN
BEGIN:VEVENT
DTSTAMP:20260420T110557
DTSTART:20260218T190000
DTEND:20260520T210000
SUMMARY:Wine School At Cork Wine  Grille
DESCRIPTION:Event Info: https://www.localwineevents.com/view/event/wine-school-at-cork-wine-grille/981993
LOCATION:Cork Wine  Grille -- 1600 Galbraith Ave. SE Grand Rapids, MI 49546
STATUS:CONFIRMED
SEQUENCE:0
TRANSP:OPAQUE
END:VEVENT
END:VCALENDAR
