BEGIN:VCALENDAR
VERSION:2.0
CALSCALE:GREGORIAN
BEGIN:VEVENT
DTSTAMP:20260421T183632
DTSTART:20260425T120000
DTEND:20260425T180000
SUMMARY:Frisco Uncorked Presented By H-E-B
DESCRIPTION:Event Info: https://www.localwineevents.com/view/event/frisco-uncorked-presented-by-h-e-b/981981
LOCATION:Frisco Square -- 8843 Coleman Boulevard Frisco, TX 75034
STATUS:CONFIRMED
SEQUENCE:0
TRANSP:OPAQUE
END:VEVENT
END:VCALENDAR
