BEGIN:VCALENDAR
VERSION:2.0
CALSCALE:GREGORIAN
BEGIN:VEVENT
DTSTAMP:20260420T045208
DTSTART:20260212T183000
DTEND:20260212T193000
SUMMARY:Celebrate With Sparkling Wines  Decadent Cheeses
DESCRIPTION:Event Info: https://www.localwineevents.com/view/event/celebrate-with-sparkling-wines-decadent-cheeses/981871
LOCATION:Central Market Dallas Lovers Lane -- 5750 East Lovers Lane Dallas, TX 75206
STATUS:CONFIRMED
SEQUENCE:0
TRANSP:OPAQUE
END:VEVENT
END:VCALENDAR
