BEGIN:VCALENDAR
VERSION:2.0
CALSCALE:GREGORIAN
BEGIN:VEVENT
DTSTAMP:20260420T045311
DTSTART:20260212T183000
DTEND:20260212T193000
SUMMARY:Wine  Chocolate: A Torrid Affair
DESCRIPTION:Event Info: https://www.localwineevents.com/view/event/wine-chocolate-a-torrid-affair/981786
LOCATION:Wild Child -- 30 Bow Street Somerville, MA 02143
STATUS:CONFIRMED
SEQUENCE:0
TRANSP:OPAQUE
END:VEVENT
END:VCALENDAR
