BEGIN:VCALENDAR
VERSION:2.0
CALSCALE:GREGORIAN
BEGIN:VEVENT
DTSTAMP:20260420T045404
DTSTART:20260214T093000
DTEND:20260214T120000
SUMMARY:Salon 61 X INA: Valentine\'s Day Yoga Party
DESCRIPTION:Event Info: https://www.localwineevents.com/view/event/salon-61-x-ina-valentines-day-yoga-party/981705
LOCATION:Salon 61 Private Events -- 61 W Hubbard St Chicago, IL 60654
STATUS:CONFIRMED
SEQUENCE:0
TRANSP:OPAQUE
END:VEVENT
END:VCALENDAR
