BEGIN:VCALENDAR
VERSION:2.0
CALSCALE:GREGORIAN
BEGIN:VEVENT
DTSTAMP:20260420T045403
DTSTART:20260210T150000
DTEND:20260210T220000
SUMMARY:Live Chef Battle  Dinner: Filmed Cooking Show Where You Judge!
DESCRIPTION:Event Info: https://www.localwineevents.com/view/event/live-chef-battle-dinner-filmed-cooking-show-where-you-judge/981495
LOCATION:2438 18th St NW -- 2438 18th Street Northwest Washington, DC 20009
STATUS:CONFIRMED
SEQUENCE:0
TRANSP:OPAQUE
END:VEVENT
END:VCALENDAR
