BEGIN:VCALENDAR
VERSION:2.0
CALSCALE:GREGORIAN
BEGIN:VEVENT
DTSTAMP:20260421T183632
DTSTART:20260430T183000
DTEND:20260430T200000
SUMMARY:Amici Cellars Wine Experience
DESCRIPTION:Event Info: https://www.localwineevents.com/view/event/amici-cellars-wine-experience/981410
LOCATION:Total Wine  More | 8700 Preston Rd Ste113 nul -- 8700 Preston Rd Ste113 null Plano, Texas 75024
STATUS:CONFIRMED
SEQUENCE:0
TRANSP:OPAQUE
END:VEVENT
END:VCALENDAR
