BEGIN:VCALENDAR
VERSION:2.0
CALSCALE:GREGORIAN
BEGIN:VEVENT
DTSTAMP:20260420T045302
DTSTART:20260208T180000
DTEND:20260208T200000
SUMMARY:Chocolate Wrap Cake With Modeling Chocolate Rose!
DESCRIPTION:Event Info: https://www.localwineevents.com/view/event/chocolate-wrap-cake-with-modeling-chocolate-rose/981127
LOCATION:Fran\'s Cake  Candy Supplies -- 10927 Main Street Fairfax, VA 22030
STATUS:CONFIRMED
SEQUENCE:0
TRANSP:OPAQUE
END:VEVENT
END:VCALENDAR
