BEGIN:VCALENDAR
VERSION:2.0
CALSCALE:GREGORIAN
BEGIN:VEVENT
DTSTAMP:20260420T045450
DTSTART:20260208T133000
DTEND:20260208T153000
SUMMARY:Deep Dive Series: Exclusive Japanese Whisky Tasting
DESCRIPTION:Event Info: https://www.localwineevents.com/view/event/deep-dive-series-exclusive-japanese-whisky-tasting/981117
LOCATION:ART DC - Arlo Rooftop Bar -- 333 G Street Northwest Washington, DC 20001
STATUS:CONFIRMED
SEQUENCE:0
TRANSP:OPAQUE
END:VEVENT
END:VCALENDAR
