BEGIN:VCALENDAR
VERSION:2.0
CALSCALE:GREGORIAN
BEGIN:VEVENT
DTSTAMP:20260422T131743
DTSTART:20260205T170000
DTEND:20260205T200000
SUMMARY:Monarch Grill\'s 2nd Annual Crab Feed
DESCRIPTION:Event Info: https://www.localwineevents.com/view/event/monarch-grills-2nd-annual-crab-feed/980520
LOCATION:1000 Summerset Dr -- 1000 Summerset Drive Rio Vista, CA 94571
STATUS:CONFIRMED
SEQUENCE:0
TRANSP:OPAQUE
END:VEVENT
END:VCALENDAR
